BEGIN:VCALENDAR
VERSION:2.0
PRODID:-//Tri Bhakti Business School - ECPv6.15.20//NONSGML v1.0//EN
CALSCALE:GREGORIAN
METHOD:PUBLISH
X-WR-CALNAME:Tri Bhakti Business School
X-ORIGINAL-URL:https://stietribhakti.ac.id
X-WR-CALDESC:Events for Tri Bhakti Business School
REFRESH-INTERVAL;VALUE=DURATION:PT1H
X-Robots-Tag:noindex
X-PUBLISHED-TTL:PT1H
BEGIN:VTIMEZONE
TZID:Asia/Jakarta
BEGIN:STANDARD
TZOFFSETFROM:+0700
TZOFFSETTO:+0700
TZNAME:WIB
DTSTART:20240101T000000
END:STANDARD
END:VTIMEZONE
BEGIN:VEVENT
DTSTART;TZID=Asia/Jakarta:20250515T133000
DTEND;TZID=Asia/Jakarta:20250515T160000
DTSTAMP:20260425T175351
CREATED:20250520T083602Z
LAST-MODIFIED:20250520T083602Z
UID:20484-1747315800-1747324800@stietribhakti.ac.id
SUMMARY:Kuliah Umum dan Penandatanganan Kerja Sama dengan Direktorat Jenderal Pajak Jawa Barat III
DESCRIPTION:Tri Bhakti Business School kembali menghadirkan kesempatan berharga bagi mahasiswa dengan menggelar acara Kuliah Umum sekaligus Penandatanganan Perjanjian Kerja Sama bersama Kantor Wilayah Direktorat Jenderal Pajak (DJP) Jawa Barat III. \nAcara ini mengangkat tema penting:“Peran Generasi Muda Sebagai Calon Wajib Pajak (Future Tax Payer)”yang bertujuan memberikan wawasan mendalam mengenai peran strategis generasi muda dalam kepatuhan dan kesadaran perpajakan di masa depan. \nAcara ini wajib diikuti oleh seluruh mahasiswa semester 2 dan 4 dari semua program studi sebagai bagian dari komitmen Tri Bhakti Business School dalam membekali mahasiswa dengan pengetahuan dan pengalaman praktis yang relevan dengan dunia kerja. \nDetail Acara: \n\n\nHari/Tanggal: Kamis\, 15 Mei 2025 \n\n\nWaktu: 13.30 WIB \n\n\nTempat: Auditorium Tri Bhakti Business School \n\n\nKeuntungan mengikuti acara ini: \n\n\nMendapatkan sertifikat resmi sebagai bukti partisipasi \n\n\nMemperoleh wawasan langsung dari para ahli dan pejabat Direktorat Jenderal Pajak \n\n\nBekal penting untuk Surat Keterangan Pendamping Ijazah (SKPI) dan pengembangan karier \n\n\nKesempatan memperluas jaringan dan pengalaman akademik \n\n\nAcara ini GRATIS dan tanpa biaya pendaftaran! Untuk mengikuti acara\, mahasiswa dapat segera mendaftar melalui tautan berikut:https://forms.gle/Jhfqgw5oHA5VqvqDA \nJangan lewatkan penandatanganan perjanjian kerja sama dan kuliah umum ini untuk menambah wawasan dan memperkuat peran kamu sebagai generasi muda yang sadar pajak. Catat tanggalnya dan pastikan kamu hadir tepat waktu!
URL:https://stietribhakti.ac.id/event/kuliah-umum-dan-penandatanganan-kerja-sama-dengan-direktorat-jenderal-pajak-jawa-barat-iii/
LOCATION:Tri Bhakti Business School\, Jl Teuku Umar No 24 Cut Meutia\, Setiakawan\, Bekasi\, 17114\, Indonesia
ATTACH;FMTTYPE=image/jpeg:https://stietribhakti.ac.id/wp-content/uploads/2025/05/Penandatanganan-Kerjasama-dan-Kuliah-Umum-Bareng-DJP.jpg
END:VEVENT
END:VCALENDAR