BEGIN:VCALENDAR
VERSION:2.0
PRODID:-//Tri Bhakti Business School - ECPv6.15.20//NONSGML v1.0//EN
CALSCALE:GREGORIAN
METHOD:PUBLISH
X-ORIGINAL-URL:https://stietribhakti.ac.id
X-WR-CALDESC:Events for Tri Bhakti Business School
REFRESH-INTERVAL;VALUE=DURATION:PT1H
X-Robots-Tag:noindex
X-PUBLISHED-TTL:PT1H
BEGIN:VTIMEZONE
TZID:Asia/Jakarta
BEGIN:STANDARD
TZOFFSETFROM:+0700
TZOFFSETTO:+0700
TZNAME:WIB
DTSTART:20220101T000000
END:STANDARD
END:VTIMEZONE
BEGIN:VEVENT
DTSTART;VALUE=DATE:20231023
DTEND;VALUE=DATE:20231124
DTSTAMP:20260422T002216
CREATED:20231025T044712Z
LAST-MODIFIED:20231025T044731Z
UID:13673-1698019200-1700783999@stietribhakti.ac.id
SUMMARY:Mengembangkan Karier dengan Digital Career Readiness Program di TBBS
DESCRIPTION:Selamat datang\, Sobat Generasi Kompeten STIE Tri Bhakti! Pusat Pelatihan dan Pendidikan Profesi STIE Tri Bhakti memiliki kabar baik untuk mahasiswa-mahasiswinya. Tanggal 23 Oktober 2023\, STIE Tri Bhakti akan memulai Digital Career Readiness Program yang merupakan hasil kolaborasi dengan Sertifikasiku\, program Skills for Job dari Microsoft\, dan Kemenko RI\, bersama dengan Biji-Biji Group. Program ini menawarkan peluang yang tak terhingga bagi semua mahasiswa untuk mempersiapkan diri dalam menghadapi dunia profesional yang semakin berubah dan digital. \n  \nSiapa yang Bisa Bergabung?\nProgram Digital Career Readiness Program (DCR) ini terbuka untuk seluruh mahasiswa STIE Tri Bhakti. Adapun ketentuan berikut: \n\nMahasiswa Semester 1 & 3: Mahasiswa di semester ini wajib mengikuti kursus Literasi Digital. Ini adalah dasar yang penting dalam era digital saat ini.\nMahasiswa Semester 5: Pada semester kelima\, wajib mengikuti kursus Kewirausahaan. Ini akan membantu mengembangkan kreativitas dan keterampilan wirausaha.\nMahasiswa Semester 7: Di semester ketujuh\, mahasiswa diwajibkan mengikuti kursus Persiapan Karir. Ini akan mempersiapkan mereka untuk memasuki dunia kerja dengan pengetahuan dan keterampilan yang dibutuhkan.\n\n  \nApa yang Ditawarkan Program Ini? \nDigital Career Readiness Program (DCR) menawarkan sejumlah manfaat yang tak terhingga\, termasuk: \n\nAkses Pembelajaran Online: Kamu akan mendapatkan akses ke pembelajaran online selama 1 tahun. Ini memungkinkan kamu untuk belajar sesuai waktu dan tempat yang kamu inginkan.\nBuku Digital Persiapan Karir: Kamu akan menerima buku panduan yang akan membantu kamu mempersiapkan diri untuk karier di era digital.\nSertifikat Penyelesaian: Setiap kali kamu menyelesaikan satu kursus\, kamu akan menerima sertifikat yang akan memperkaya portofolio akademik dan profesionalmu.\nKesempatan Job Connect: Program ini juga membuka pintu bagi kamu untuk mengakses Job Connect\, yang akan membantu kamu menghubungkan diri dengan dunia profesional. Ini merupakan peluang emas untuk memulai kariermu.\n\n  \nBergabung dalam Komunitas Generasi Kompeten Digital! Selain manfaat langsung dari program ini\, kamu juga akan berkesempatan untuk bergabung dalam komunitas yang solid dan berpengalaman. Kamu akan berhubungan dengan rekan-rekan mahasiswa yang memiliki minat serupa dan bersama-sama mengejar kesuksesan di dunia digital. \n  \nJangan Lewatkan Kesempatan Ini! Untuk mendaftar\, kunjungi tautan ini. Setelah mendaftar\, pastikan untuk bergabung ke grup Khusus Mahasiswa STIE Tri Bhakti di sini untuk mendapatkan informasi lebih lanjut. \n  \nUntuk pertanyaan lebih lanjut\, kamu dapat menghubungi Ulum di 085156697662. \nAyo\, Sobat Generasi Kompeten STIE Tri Bhakti\, berikan dirimu peluang untuk mengembangkan kariermu di era digital dengan Digital Career Readiness Program! #GenerasiKompetenDigital #Skillsforjob \n 
URL:https://stietribhakti.ac.id/event/mengembangkan-karier-dengan-digital-career-readiness-program-di-tbbs/
LOCATION:Tri Bhakti Business School\, Jl Teuku Umar No 24 Cut Meutia\, Setiakawan\, Bekasi\, 17114\, Indonesia
ATTACH;FMTTYPE=image/jpeg:https://stietribhakti.ac.id/wp-content/uploads/2023/10/Digital-Career-Readiness-Program.jpg
ORGANIZER;CN="Tri Bhakti Business School":MAILTO:marketing@stietribhakti.ac.id
END:VEVENT
BEGIN:VEVENT
DTSTART;TZID=Asia/Jakarta:20231116T133000
DTEND;TZID=Asia/Jakarta:20231116T200000
DTSTAMP:20260422T002216
CREATED:20231114T044235Z
LAST-MODIFIED:20231114T044334Z
UID:13883-1700141400-1700164800@stietribhakti.ac.id
SUMMARY:Webinar Pasar Modal Why Investment has to be our Lifestyle
DESCRIPTION:Galeri Investasi Tri Bhakti Business School (TBBS) mengadakan Webinar Pasar Modal\, sebuah kegiatan edukatif yang bertujuan untuk memperluas wawasan di dunia investasi. Acara ini menawarkan kesempatan emas bagi para investor muda untuk mengeksplorasi tema menarik\, disajikan oleh seorang pemateri berkompeten dari MNC Sekuritas. \nDalam webinar ini\, tema materi yang akan dibawakan yaitu “Why Investment has to be our Lifestyle” (Mengapa Investasi Harus Menjadi Gaya Hidup Kita). Pembicara akan membahas pentingnya mengintegrasikan investasi ke dalam kehidupan sehari-hari. \n  \nJudul: \nWebinar Pasar Modal – “Why Investment has to be our Lifestyle” \nPemateri: \nZahra Nur Khadijah [MNC Sekuritas] \nTanggal: \nKamis\, 16 November 2023 \nWaktu: \n13.30 WIB – selesai \nBiaya: \nGratis \n  \nProsedur Pendaftaran:\nPartisipasi dalam acara ini cukup mudah. Silakan isi formulir pendaftaran melalui tautan berikut: Tautan Pendaftaran Webinar. \n  \nManfaat Peserta: \n\n???? Ilmu Bermanfaat: Memperoleh pengetahuan praktis yang dapat diterapkan dalam dunia investasi.\n???? E-Sertifikat: Menerima sertifikat elektronik sebagai bukti partisipasi.\n???? Teman Baru: Membuka peluang untuk menjalin hubungan dan berkenalan dengan rekan mahasiswa lainnya.\n\n  \nInfo Lebih Lanjut: \nInstagram : Kelompok Studi Pasar Modal (KSPM) @kspm_tbbs \nWhatsapp : 0895 – 3724 – 71983 (Randini) \n  \n 
URL:https://stietribhakti.ac.id/event/13883/
LOCATION:Tri Bhakti Business School\, Jl Teuku Umar No 24 Cut Meutia\, Setiakawan\, Bekasi\, 17114\, Indonesia
ATTACH;FMTTYPE=image/jpeg:https://stietribhakti.ac.id/wp-content/uploads/2023/11/Webinar-Pasar-Modal-Why-Invesment-has-to-be-our-Lifestyle.jpg
END:VEVENT
END:VCALENDAR