BEGIN:VCALENDAR
VERSION:2.0
PRODID:-//Tri Bhakti Business School - ECPv6.15.20//NONSGML v1.0//EN
CALSCALE:GREGORIAN
METHOD:PUBLISH
X-ORIGINAL-URL:https://stietribhakti.ac.id
X-WR-CALDESC:Events for Tri Bhakti Business School
REFRESH-INTERVAL;VALUE=DURATION:PT1H
X-Robots-Tag:noindex
X-PUBLISHED-TTL:PT1H
BEGIN:VTIMEZONE
TZID:Asia/Jakarta
BEGIN:STANDARD
TZOFFSETFROM:+0700
TZOFFSETTO:+0700
TZNAME:WIB
DTSTART:20220101T000000
END:STANDARD
END:VTIMEZONE
BEGIN:VEVENT
DTSTART;TZID=Asia/Jakarta:20231014T080000
DTEND;TZID=Asia/Jakarta:20231021T170000
DTSTAMP:20260422T015816
CREATED:20231011T093810Z
LAST-MODIFIED:20231011T093810Z
UID:13513-1697270400-1697907600@stietribhakti.ac.id
SUMMARY:Lomba Cerdas Cermat Perpajakan Tingkat Mahasiswa
DESCRIPTION:HUT Ikatan Konsultan Pajak Indonesia (IKPI) Bekasi yang ke-14 akan menjadi momen bersejarah yang dirayakan dengan cara istimewa. IKPI Bekasi berkolaborasi dengan Universitas Bhayangkara Jakarta Raya dan Tri Bhakti Business School untuk mengadakan Lomba Cerdas Cermat dengan tema “Perpajakan” tingkat mahasiswa se Kota Bekasi. Acara ini juga didukung oleh media partner DDTC News. \n  \nPendaftaran dan Timeline Acara \n\nPendaftaran: 4 – 11 Oktober 2023\nPenyisihan Via Online: 14 Oktober 2023\nSemi Final & Final di Universitas Bhayangkara Jakarta Raya: 21 Oktober 2023\n\n  \nPersyaratan Peserta \n\nPeserta merupakan mahasiswa perguruan tinggi di Bekasi dan sekitarnya.\nSatu regu terdiri dari 3 mahasiswa dari satu perguruan tinggi yang sama.\nPeserta wajib melampirkan fotokopi kartu mahasiswa sebagai bukti.\nKuota peserta terbatas\, sehingga segera daftarlah!\nKeputusan panitia bersifat mutlak dan tidak dapat diganggu gugat.\nPeserta yang memenuhi syarat akan mendapatkan e-sertifikat kepesertaan.\n\n  \nBiaya Pendaftaran \n\nBiaya pendaftaran sebesar Rp. 100.000 per group.\n\n  \nLink Pendaftaran \nJangan lewatkan kesempatan untuk berpartisipasi dalam lomba ini. Untuk mendaftar\, kunjungi tautan pendaftaran ini. \n  \nTotal Hadiah \nTotal hadiah yang bisa Anda raih dalam lomba ini mencapai 37.5 Juta Rupiah. Hadiah tersebut berupa uang tunai dan kursus Brevet A & B\, yang bisa menjadi langkah awal yang baik dalam karir akuntansi dan perpajakan Anda. \n  \nInformasi Pendaftaran \nJika Anda membutuhkan informasi lebih lanjut atau memiliki pertanyaan\, jangan ragu untuk menghubungi: \n\nDaniel Mulia: 0815 1062 0728\nLamsihar Hutahaean: 0812 9677 245\n\nAyo sambut HUT IKPI Bekasi yang ke-14 dengan semangat kompetisi dan pengetahuan dalam Lomba Cerdas Cermat Akuntansi dan Perpajakan. Bergabunglah dalam event ini dan tunjukkan kemampuan Anda yang luar biasa! \n 
URL:https://stietribhakti.ac.id/event/lomba-cerdas-cermat-perpajakan-tingkat-mahasiswa/
ATTACH;FMTTYPE=image/jpeg:https://stietribhakti.ac.id/wp-content/uploads/2023/10/Lomba-Cerdas-Cermat-Tingkat-Mahasiswa-website.jpg
END:VEVENT
BEGIN:VEVENT
DTSTART;TZID=Asia/Jakarta:20231014T140000
DTEND;TZID=Asia/Jakarta:20231014T180000
DTSTAMP:20260422T015816
CREATED:20231011T105301Z
LAST-MODIFIED:20231011T105301Z
UID:13521-1697292000-1697306400@stietribhakti.ac.id
SUMMARY:Maulid Nabi Muhammad SAW Milad IMMTI Ke - 23 & Santunan Yatim / Piatu
DESCRIPTION:Dalam semangat kebersamaan dan pengabdian\, Ikatan Mahasiswa Muslim Tri Bhakti (IMMTI) dengan bangga memperingati Maulid Nabi Muhammad SAW dan merayakan Milad IMMTI yang ke-24. Dalam rangka perayaan ini\, IMMTI akan mengadakan serangkaian acara istimewa\, termasuk Santunan Yatim dan Piatu\, sharing session\, dan kajian bersama yang bertemakan “Sukses Dunia & Akhirat dengan Meneladani Nabi Muhammad SAW.” Bersama Ustad Agus Ni’amillah\, SST. (Manager Program BWA Direktur SDM Yayasan Cahaya Insantama Rangkasbitung) dan  Dr. Adam Firman Rizki\, SE.\, M. Ak\, CSCM\, NPDM. (Entrepreneur) \nAcara ini akan dilaksanakan pada hari Sabtu\, 14 Oktober 2023 jam 14.00 WIB di Auditorium kampus Tri Bhakti Business School. IMMTI juga  membuka donasi untuk keberlangsungan acara ini. \nDonasi : \nBCA : \n0661976241 \na.n Salsabila Putri \n  \nNarahubung : \nRafiyudin : 085883219230\nAmina : 082141916589 \n 
URL:https://stietribhakti.ac.id/event/maulid-nabi-muhammad-saw-milad-immti-ke-23-santunan-yatim-piatu/
LOCATION:Tri Bhakti Business School\, Jl Teuku Umar No 24 Cut Meutia\, Setiakawan\, Bekasi\, 17114\, Indonesia
ATTACH;FMTTYPE=image/jpeg:https://stietribhakti.ac.id/wp-content/uploads/2023/10/Maulid-Nabi-dan-Milad-IMMTI.jpg
END:VEVENT
END:VCALENDAR