BEGIN:VCALENDAR
VERSION:2.0
PRODID:-//Tri Bhakti Business School - ECPv6.15.20//NONSGML v1.0//EN
CALSCALE:GREGORIAN
METHOD:PUBLISH
X-WR-CALNAME:Tri Bhakti Business School
X-ORIGINAL-URL:https://stietribhakti.ac.id
X-WR-CALDESC:Events for Tri Bhakti Business School
REFRESH-INTERVAL;VALUE=DURATION:PT1H
X-Robots-Tag:noindex
X-PUBLISHED-TTL:PT1H
BEGIN:VTIMEZONE
TZID:Asia/Jakarta
BEGIN:STANDARD
TZOFFSETFROM:+0700
TZOFFSETTO:+0700
TZNAME:WIB
DTSTART:20220101T000000
END:STANDARD
END:VTIMEZONE
BEGIN:VEVENT
DTSTART;VALUE=DATE:20230603
DTEND;VALUE=DATE:20230718
DTSTAMP:20260422T070238
CREATED:20230621T071943Z
LAST-MODIFIED:20230621T072204Z
UID:12698-1685750400-1689638399@stietribhakti.ac.id
SUMMARY:LivePreneur Himpunan Mahasiswa Manajemen
DESCRIPTION:HIMMA MJ (Himpunan Mahasiswa Manajemen) akan mengadakan acara  Lomba LivePreneur 2023. Lomba LivePreneur adalah perlombaan dengan peserta lomba melakukan penjualan terhadap produk yang mereka miliki untuk mendapatkan profit tertinggi \n  \nPelaksanaan Kegiatan : \nPendaftaran‎ : 03-15 Juni 2023 \nTechnical Meeting : 17 Juni 2023 \nPengumpulan profit penjualan: 19\,20\,21\,22 & 24 Juni 2023 \nPengumpulan Laporan Keuangan Peserta: 26 Juni 2023 \nPengumuman Lolos Banak Final: 1 Juli 2023 \nPengumpulan Bahan presentasi: 15 Juli 2023 \nPresentasi Babak Final: 17 Juli 2023 \n  \nCara Pendaftaran : \nMengisi Link Pendaftaran dibawah ini \nhttps://bit.ly/PendaftaranLivepreneur2023 \nDan membaca serta melihat pedoman lomba di bawah ini \nhttps://bit.ly/BookletLivepreneur2023 \n  \nNarahubung : \n0812-1385-4291 (Aulia Fatwa)\n0812-8434-4799 (Winneta ) \n  \nTERBUKA UNTUK SELURUH MAHASISWA TRI BHAKTI‼️ \n 
URL:https://stietribhakti.ac.id/event/livepreneur-himpunan-mahasiswa-manajemen/
ATTACH;FMTTYPE=image/jpeg:https://stietribhakti.ac.id/wp-content/uploads/2023/06/Bedah-EMITEN-T-R-J-A-1.jpg
END:VEVENT
BEGIN:VEVENT
DTSTART;VALUE=DATE:20230612
DTEND;VALUE=DATE:20230820
DTSTAMP:20260422T070238
CREATED:20230621T074717Z
LAST-MODIFIED:20230621T074717Z
UID:12703-1686528000-1692489599@stietribhakti.ac.id
SUMMARY:Lomba Cerdas Cermat Akuntansi tingkat SMA dan SMK
DESCRIPTION:Kami Himpunan Mahasiswa Akuntansi akan mengadakan Lomba Cerdas Cermat Akuntansi tingkat SMA dan SMK dengan tema “Spirit To Be Champion With Competition.” \n  \nTimeline Acara : \nPembukaan Pendaftaran : 12 Juni 2023 – 11 Juli 2023 \nTechnical Meeting : 15 Juli 2023Pendaftaran Ulang : 21 Juli 2023 – 29 Juli 2023 \nBabak Penyisihan : 20 Juli 2023 \nSemi Final dan Final SMA : 31 Juli 2023 \nPengumuman Pemenang dan Puncak Acara : 19 Agustus 2023 \n  \nCara Pendaftaran : \nMengisi Link Pendaftaran dibawah ini \nhttp://bit.ly/PendaftaranLCCA2023 \nDan membaca serta melihat pedoman lomba di bawah ini \nbit.ly/BukuPanduanLCCA2023 \n  \nNarahubung : \n0821-2389-2462 (M. Dzaki) \n0858-6072-9897 (Raika) \n 
URL:https://stietribhakti.ac.id/event/lomba-cerdas-cermat-akuntansi-tingkat-sma-dan-smk/
ATTACH;FMTTYPE=image/jpeg:https://stietribhakti.ac.id/wp-content/uploads/2023/06/Lomba-Cerdas-Cermat-Akuntansi.jpg
END:VEVENT
END:VCALENDAR