BEGIN:VCALENDAR
VERSION:2.0
PRODID:-//Tri Bhakti Business School - ECPv6.15.20//NONSGML v1.0//EN
CALSCALE:GREGORIAN
METHOD:PUBLISH
X-ORIGINAL-URL:https://stietribhakti.ac.id
X-WR-CALDESC:Events for Tri Bhakti Business School
REFRESH-INTERVAL;VALUE=DURATION:PT1H
X-Robots-Tag:noindex
X-PUBLISHED-TTL:PT1H
BEGIN:VTIMEZONE
TZID:Asia/Jakarta
BEGIN:STANDARD
TZOFFSETFROM:+0700
TZOFFSETTO:+0700
TZNAME:WIB
DTSTART:20220101T000000
END:STANDARD
END:VTIMEZONE
BEGIN:VEVENT
DTSTART;TZID=Asia/Jakarta:20231201T130000
DTEND;TZID=Asia/Jakarta:20231201T180000
DTSTAMP:20260421T204532
CREATED:20231128T073416Z
LAST-MODIFIED:20231128T073515Z
UID:14021-1701435600-1701453600@stietribhakti.ac.id
SUMMARY:English Conversation Class
DESCRIPTION:Perlu kalian ketahui\, di era sekarang ini Bahasa Inggris merupakan salah satu aspek penting yang harus dimiliki oleh mahasiswa. Tidak hanya sebagai bahasa international tetapi saat ini banyak referensi penunjang perkuliahan yang menggunakan bahasa Inggris. \nPusat Pelatihan Dan Pendidikan Profesi (P4) dan English Conversation Club (ECC) Tri Bhakti Business School (TBBS) menyelenggarakan acara untuk menunjang kemampuan Bahasa inggris . \n  \nTanggal : \nJumat\, 1 Desember 2023 Sampai Dengan Setiap Hari Jumat (4 Sesi Pertemuan) \nWaktu : \n13.00 WIB – Selesai \nLokasi : \nKampus Tri Bhakti Business School \nBiaya Pendaftaran : \nRp. 25.000\,- \nProsedur Pendaftaran : \nSilahkan isi formulir berikut ini https://bit.ly/ConversationClassP4 lalu melakukan pembayaran melalui rekening berikut 6755421646 Bank BCA atas nama Muhamad Ulumudin \nBatas Pendaftaran : \n27 November 2023 \nManfaat Peserta : \nE-Sertifikat \nEbook \nIlmu Yang Bermanfaat \nRelasi Teman Baru \nSnack Box \nInformasi Lebih Lanjut Hubungi : \nWhatsapp 085156697662 (Ulum) \n  \nYuk Daftarkan Diri kalian di Pelatihan ini\, Don’t Miss It\, See u Later
URL:https://stietribhakti.ac.id/event/english-conversation-class/
LOCATION:Tri Bhakti Business School\, Jl Teuku Umar No 24 Cut Meutia\, Setiakawan\, Bekasi\, 17114\, Indonesia
ATTACH;FMTTYPE=image/jpeg:https://stietribhakti.ac.id/wp-content/uploads/2023/11/English-Conversation-Class.jpg
ORGANIZER;CN="Tri Bhakti Business School":MAILTO:marketing@stietribhakti.ac.id
END:VEVENT
BEGIN:VEVENT
DTSTART;TZID=Asia/Jakarta:20231211T100000
DTEND;TZID=Asia/Jakarta:20231212T150000
DTSTAMP:20260421T204532
CREATED:20231118T080449Z
LAST-MODIFIED:20231118T080521Z
UID:13900-1702288800-1702393200@stietribhakti.ac.id
SUMMARY:Job Fair & Bazar Tri Bhakti Business School
DESCRIPTION:Acara job fair adalah peluang emas bagi para pencari kerja untuk menemukan pekerjaan yang sesuai dengan keterampilan dan minat mereka\, sambil memberikan perusahaan kesempatan untuk mengidentifikasi calon karyawan berpotensi. Dalam rangkaian job fair ini\, Tri Bhakti Business School (TBBS) bekerja sama dengan Facejob\, sebuah organisasi yang menghubungkan pencari kerja dan perusahaan melalui platform job fair serta platform online mereka. \n  \nJob fair ini mengusung tema menarik\, yaitu “SHIROI SHIRT” atau “Baju Putih.” Konsep ini menggambarkan bahwa mengenakan baju putih melambangkan awal yang baru dan tantangan baru yang akan dihadapi ketika memasuki dunia kerja. Pesan ini ditujukan kepada para pencari kerja yang siap menghadapi perubahan dengan mendapatkan pekerjaan baru. \n  \nSebagai tambahan\, acara ini juga akan menyelenggarakan Bazar UMKM\, menambah semarak keseluruhan acara job fair. \n  \nAcara : \nJob Fair : “Shiroi Shirt” \n  \nTanggal : \n11-12 Desember 2023 \n  \nWaktu : \n10.00 – 15.00 \n  \nLokasi : \nKampus STIE Tri Bhakti \n  \nBiaya : \nGratis \n  \nPersaratan Pendaftaran : \n\nLulusan SMA/SMK Sederajat\, D3\, dan S1 Segala Jurusan\nUsia 18 – 35 Tahun\nPakaian Bebas (Rapih dan Sopan)\nTerbuka Untuk Umum se-JABODETABEK\nInterview Langsung dengan HRD Perusahaan se-JABODETABEK\n\n  \nCara Bergabung: \n\nDaftar segera di https://bit.ly/jobfairtribhakti\nDapatkan Konfirmasi dan Link Event melalui email.\nHadiri Job Fair dengan membawa CV Anda dan persiapkan pertanyaan yang relevan.\n\n  \nJangan lupa untuk membagikan berita baik ini dengan teman\, keluarga\, dan kolega yang tengah mencari peluang karir yang menarik! Semakin banyak yang bergabung\, semakin besar peluang untuk mendapatkan kesempatan yang diinginkan. \n  \nInformasi Lebih Lanjut Hubungi \n0896-3863-1874 (Nadia) \n0896-8267-9477 (Dhea)
URL:https://stietribhakti.ac.id/event/job-fair-bazar-tri-bhakti-business-school/
LOCATION:Tri Bhakti Business School\, Jl Teuku Umar No 24 Cut Meutia\, Setiakawan\, Bekasi\, 17114\, Indonesia
ATTACH;FMTTYPE=image/jpeg:https://stietribhakti.ac.id/wp-content/uploads/2023/11/Jof-Fair.jpg
ORGANIZER;CN="Tri Bhakti Business School":MAILTO:marketing@stietribhakti.ac.id
END:VEVENT
END:VCALENDAR