BEGIN:VCALENDAR
VERSION:2.0
PRODID:-//Tri Bhakti Business School - ECPv6.15.20//NONSGML v1.0//EN
CALSCALE:GREGORIAN
METHOD:PUBLISH
X-WR-CALNAME:Tri Bhakti Business School
X-ORIGINAL-URL:https://stietribhakti.ac.id
X-WR-CALDESC:Events for Tri Bhakti Business School
REFRESH-INTERVAL;VALUE=DURATION:PT1H
X-Robots-Tag:noindex
X-PUBLISHED-TTL:PT1H
BEGIN:VTIMEZONE
TZID:Asia/Jakarta
BEGIN:STANDARD
TZOFFSETFROM:+0700
TZOFFSETTO:+0700
TZNAME:WIB
DTSTART:20220101T000000
END:STANDARD
END:VTIMEZONE
BEGIN:VEVENT
DTSTART;VALUE=DATE:20230329
DTEND;VALUE=DATE:20230330
DTSTAMP:20260422T121540
CREATED:20230329T084021Z
LAST-MODIFIED:20230329T084337Z
UID:12296-1680048000-1680134399@stietribhakti.ac.id
SUMMARY:Company Visit
DESCRIPTION:Halo Teman-Teman Mahasiswa /i STIE Tri Bhakti. \nKami Himpunan Mahasiswa Manajemen mengadakan company visit dengan 2 destinasi perusahaan\, yaitu : \n\n Ajinomoto Karawang\nKarawang International Industrial City (KIIC)\n\n  \nPelaksanaan Kegiatan \nHari/ Tanggal : Rabu\, 29 Maret 2023 \nWaktu : 06:30 WIB – Selesai \nPendaftaran : Rp 100.000 \nTitik Kumpul : STIE Tri Bhakti \nPembayaran melalui: \n0861 0105 2255 530 (BRI) A/N Fanni Indriyani \n  \nBenefit : \nIlmu Bermanfaat \nE-Sertifikat \nMerchandise & Goodiebag \nInfo lebih lanjut hubungi : \nFanni  : Wa.me/6285886075846 \nManda : Wa.me/6285759511685
URL:https://stietribhakti.ac.id/event/company-visit/
LOCATION:Tri Bhakti Business School\, Jl Teuku Umar No 24 Cut Meutia\, Setiakawan\, Bekasi\, 17114\, Indonesia
ATTACH;FMTTYPE=image/jpeg:https://stietribhakti.ac.id/wp-content/uploads/2023/03/Company-Visit.jpg
END:VEVENT
END:VCALENDAR