BEGIN:VCALENDAR
VERSION:2.0
PRODID:-//Tri Bhakti Business School - ECPv6.15.20//NONSGML v1.0//EN
CALSCALE:GREGORIAN
METHOD:PUBLISH
X-WR-CALNAME:Tri Bhakti Business School
X-ORIGINAL-URL:https://stietribhakti.ac.id
X-WR-CALDESC:Events for Tri Bhakti Business School
REFRESH-INTERVAL;VALUE=DURATION:PT1H
X-Robots-Tag:noindex
X-PUBLISHED-TTL:PT1H
BEGIN:VTIMEZONE
TZID:Asia/Jakarta
BEGIN:STANDARD
TZOFFSETFROM:+0700
TZOFFSETTO:+0700
TZNAME:WIB
DTSTART:20220101T000000
END:STANDARD
END:VTIMEZONE
BEGIN:VEVENT
DTSTART;VALUE=DATE:20230207
DTEND;VALUE=DATE:20230208
DTSTAMP:20260422T141601
CREATED:20230203T052831Z
LAST-MODIFIED:20230203T054352Z
UID:12163-1675728000-1675814399@stietribhakti.ac.id
SUMMARY:Pelatihan Pemanfaatan E-Resource di Lingkungan Perguruan Tinggi
DESCRIPTION:KEGIATAN LITERASI INFORMASI\n\nBuat temen temen Mahasiswa yang pengen belajar tentang E-Resource untuk menunjang perkuliahan\, Yuk bisa ikuti Pelatihan ini pada :\nHari\, Tgl : Selasa\, 07 Februari 2022\nPukul : 09.00 s/d Selesai\nTempat : Perpustakaan TBBS\n FREE!\n\n*Link Pendaftaran* :\nhttp://Bit.ly/PelatihanPemanfaatanE-Resource\n\n\nBenefit apa aja sih yang didapetin\n1. E-Sertifikat\n2. Materi Pelatihan\n\nYuk Ikuti Pelatihan ini!\nSee u!
URL:https://stietribhakti.ac.id/event/pelatihan-pemanfaatan-e-resource-di-lingkungan-perguruan-tinggi/
LOCATION:Perpustakaan STIE Tri Bhakti
ATTACH;FMTTYPE=image/jpeg:https://stietribhakti.ac.id/wp-content/uploads/2023/02/IMG-20230131-WA0020.jpg
END:VEVENT
BEGIN:VEVENT
DTSTART;TZID=Asia/Jakarta:20230210T083000
DTEND;TZID=Asia/Jakarta:20230210T120000
DTSTAMP:20260422T141601
CREATED:20230123T101650Z
LAST-MODIFIED:20230124T081026Z
UID:12113-1676017800-1676030400@stietribhakti.ac.id
SUMMARY:Sekolah Pasar Modal "Hadapi Resesi Dengan Investasi"
DESCRIPTION:Hallo\, Calon Investor Muda!  Sekolah Pasar Modal hadir kembali secara offline!!! \nKelompok Studi Pasar Modal (KSPM) Tri Bhakti Business School akan mengadakan Sekolah Pasar Modal yang merupakan kegiatan edukasi untuk para investor muda yang ingin melangkah menjadi investor muda yang baik dan cerdas. \nDengan tema “Hadapi Resesi Dengan Berinvestasi” \nPembicara: \nIra Shintiya Rahayu \n[Divisi Pengembangan Pasar di Bursa Efek Indonesia] \nImam Gunadi\, CRP\,RTA\,QWP\,AWP\, CODP \n[Investment Specialist Indo Premier Sekuritas & Co-Founder Graham Academy] \nHoras Sebastian E. Tobing\, BA \n[Ketua Yayasan Prima Bina Bangsa & Stock Market Enthusiast] \nPelaksanaan Kegiatan \nHari/ Tanggal : Jum’at\, 10 Februari 2023 \nTempat : Kampus Tri Bhakti Business School \nWaktu : 08.30 WIB – Selesai \nPendaftaran : Rp 20.000 \nCara Pendaftaran \nhttp://bit.ly/SPMTBBS-2022 \nPembayaran seminar transfer melalui: \nBCA 7411100409 (a.n Fita Vaelani) \nBatas pendaftaran sampai 08 Februari 2023 \n \nBenefit : \nIlmu Bermanfaat \nE-Sertifikat \nTeman baru \nCashback 100k (berupa saldo RDN) \nPanduan langkah awal menjadi investor \n  \nInfo lebih lanjut hubungi : \nLia : wa.me/6285781149461 \nSafitri : wa.me/6285973778257
URL:https://stietribhakti.ac.id/event/sekolah-pasar-modal-hadapi-resesi-dengan-investasi/
LOCATION:Tri Bhakti Business School\, Jl Teuku Umar No 24 Cut Meutia\, Setiakawan\, Bekasi\, 17114\, Indonesia
ATTACH;FMTTYPE=image/jpeg:https://stietribhakti.ac.id/wp-content/uploads/2023/01/Sekolah-Pasar-Modal-Samput.jpg
END:VEVENT
END:VCALENDAR